BEGIN:VCALENDAR
VERSION:2.0
PRODID:-//Meadows Church - ECPv6.15.20//NONSGML v1.0//EN
CALSCALE:GREGORIAN
METHOD:PUBLISH
X-ORIGINAL-URL:https://meadows.church
X-WR-CALDESC:Events for Meadows Church
REFRESH-INTERVAL;VALUE=DURATION:PT1H
X-Robots-Tag:noindex
X-PUBLISHED-TTL:PT1H
BEGIN:VTIMEZONE
TZID:America/Chicago
BEGIN:DAYLIGHT
TZOFFSETFROM:-0600
TZOFFSETTO:-0500
TZNAME:CDT
DTSTART:20240310T080000
END:DAYLIGHT
BEGIN:STANDARD
TZOFFSETFROM:-0500
TZOFFSETTO:-0600
TZNAME:CST
DTSTART:20241103T070000
END:STANDARD
BEGIN:DAYLIGHT
TZOFFSETFROM:-0600
TZOFFSETTO:-0500
TZNAME:CDT
DTSTART:20250309T080000
END:DAYLIGHT
BEGIN:STANDARD
TZOFFSETFROM:-0500
TZOFFSETTO:-0600
TZNAME:CST
DTSTART:20251102T070000
END:STANDARD
BEGIN:DAYLIGHT
TZOFFSETFROM:-0600
TZOFFSETTO:-0500
TZNAME:CDT
DTSTART:20260308T080000
END:DAYLIGHT
BEGIN:STANDARD
TZOFFSETFROM:-0500
TZOFFSETTO:-0600
TZNAME:CST
DTSTART:20261101T070000
END:STANDARD
END:VTIMEZONE
BEGIN:VEVENT
DTSTART;TZID=America/Chicago:20250209T090000
DTEND;TZID=America/Chicago:20250209T123000
DTSTAMP:20260422T065313
CREATED:20250110T232317Z
LAST-MODIFIED:20250110T232601Z
UID:11633-1739091600-1739104200@meadows.church
SUMMARY:FEBRUARY BAPTISMS
DESCRIPTION:
URL:https://meadows.church/event/february-baptisms/
LOCATION:Meadows Church\, 12550 S 114th St\,\, Papillion\, 68046\, United States
CATEGORIES:Upcoming
ATTACH;FMTTYPE=image/jpeg:https://meadows.church/wp-content/uploads/2025/01/2502_baptisms.jpg
END:VEVENT
BEGIN:VEVENT
DTSTART;TZID=America/Chicago:20250209T170000
DTEND;TZID=America/Chicago:20250209T220000
DTSTAMP:20260422T065314
CREATED:20250112T025917Z
LAST-MODIFIED:20250118T162701Z
UID:11638-1739120400-1739138400@meadows.church
SUMMARY:SUPER BOWL CHILI COOK-OFF
DESCRIPTION:
URL:https://meadows.church/event/super-bowl-chili-cook-off/
LOCATION:Meadows Church\, 12550 S 114th St\,\, Papillion\, 68046\, United States
CATEGORIES:Upcoming
ATTACH;FMTTYPE=image/jpeg:https://meadows.church/wp-content/uploads/2025/01/superbowl_25_01.jpg
END:VEVENT
END:VCALENDAR