BEGIN:VCALENDAR
VERSION:2.0
PRODID:-//Meadows Church - ECPv6.15.20//NONSGML v1.0//EN
CALSCALE:GREGORIAN
METHOD:PUBLISH
X-ORIGINAL-URL:https://meadows.church
X-WR-CALDESC:Events for Meadows Church
REFRESH-INTERVAL;VALUE=DURATION:PT1H
X-Robots-Tag:noindex
X-PUBLISHED-TTL:PT1H
BEGIN:VTIMEZONE
TZID:America/Chicago
BEGIN:DAYLIGHT
TZOFFSETFROM:-0600
TZOFFSETTO:-0500
TZNAME:CDT
DTSTART:20230312T080000
END:DAYLIGHT
BEGIN:STANDARD
TZOFFSETFROM:-0500
TZOFFSETTO:-0600
TZNAME:CST
DTSTART:20231105T070000
END:STANDARD
BEGIN:DAYLIGHT
TZOFFSETFROM:-0600
TZOFFSETTO:-0500
TZNAME:CDT
DTSTART:20240310T080000
END:DAYLIGHT
BEGIN:STANDARD
TZOFFSETFROM:-0500
TZOFFSETTO:-0600
TZNAME:CST
DTSTART:20241103T070000
END:STANDARD
BEGIN:DAYLIGHT
TZOFFSETFROM:-0600
TZOFFSETTO:-0500
TZNAME:CDT
DTSTART:20250309T080000
END:DAYLIGHT
BEGIN:STANDARD
TZOFFSETFROM:-0500
TZOFFSETTO:-0600
TZNAME:CST
DTSTART:20251102T070000
END:STANDARD
END:VTIMEZONE
BEGIN:VEVENT
DTSTART;TZID=America/Chicago:20240911T190000
DTEND;TZID=America/Chicago:20240911T203000
DTSTAMP:20260420T115723
CREATED:20240822T023627Z
LAST-MODIFIED:20250102T164235Z
UID:10843-1726081200-1726086600@meadows.church
SUMMARY:MEADOWS YOUTH
DESCRIPTION:
URL:https://meadows.church/event/meadows-youth/
LOCATION:Meadows Church\, 12550 S 114th St\,\, Papillion\, 68046\, United States
CATEGORIES:Ongoing
ATTACH;FMTTYPE=image/jpeg:https://meadows.church/wp-content/uploads/2024/08/MCY_thumbnail_01.jpg
END:VEVENT
END:VCALENDAR